Workbook

Sheet I VIŠI 
A1: stečajna masa iza CBD Organic j.d.o.o. u stečaju
A2: Trgovački sud u Rijeci
A3: St-397/2025
A5: TABLICA PRIJAVLJENIH RAŽBINA
A7: I. VIŠI ISPLATNI RED
A8: R. br. | B8: Ime i prezime/tvrtka ili naziv vjerovnika | C8: OIB | D8: Aresa/sjedište vjerovnika | E8: Iznos priajvljene tražbine | F8: Pravna osnova prijavljene tražbine | G8: Iznos priznate tražbine | H8: Pravna osnova priznate tražbine | I8: Iznos osporene tražbine | J8: Razlog osporavanja tražbine | K8: Oznaka ovršne isprave ako se tražbine zasniva na ovršnoj ispravi
A9: 1.
A10: SVEUKUPNO | E10: =SUM(E9:E9) -> 0 | G10: =SUM(G9:G9) -> 0 | I10: =SUM(I9:I9) -> 0

Sheet II VIŠI
A1: Stečajna masa iza CBD ORGANIC j.d.o.o. u stečaju
A2: Trgovački sud u Rijeci
A3: St-397/2025
A5: TABLICA PRIJAVLJENIH RAŽBINA
A7: II. VIŠI ISPLATNI RED
A8: R. br. | B8: Ime i prezime/tvrtka ili naziv vjerovnika | C8: OIB | D8: Aresa/sjedište vjerovnika | E8: Iznos priajvljene tražbine | F8: Pravna osnova prijavljene tražbine | G8: Iznos priznate tražbine | H8: Pravna osnova priznate tražbine | I8: Iznos osporene tražbine | J8: Razlog osporavanja tražbine | K8: Oznaka ovršne isprave ako se tražbine zasniva na ovršnoj ispravi
A9: 1. | B9: ERSTE&STEIERMÄRKISCHE BANK d. d. | C9: 23057039320 | D9: Rijeka (Grad Rijeka) Jadranski trg 3a | E9: 83249.09 | F9: Ugovor o kreditu broj 5120800644 od 26.01.2023., sporazumo osiguranju tražbine zasnivanjem založnog prava na nekretnini od 26.01.2023. | G9: =E9 -> 83249.09 | H9: =F9 -> Ugovor o kreditu broj 5120800644 od 26.01.2023., sporazumo osiguranju tražbine zasnivanjem založnog prava na nekretnini od 26.01.2023. | K9: Zadužnica od 26.01.2023.,sporazum o osiguranju novčane tražbine zasnivanjem založnog prava
A10: 2. | B10: HEP ELEKTRA d.o.o. | C10: 43965974818 | D10: Ulica grada Vukovara 37, Zagreb | E10: 212.78 | F10: izvod iz poslovnih knjiga | G10: =E10 -> 212.78 | H10: =F10 -> izvod iz poslovnih knjiga
A11: 3. | B11: HEP-Opskrba d.o.o. | C11: 63073332379 | D11: Ulica grada Vukovara 37, Zagreb | E11: 54.97 | F11: ugovor o opskrbi krajnjeg kupca, izvod otvorenih stavki | G11: =E11 -> 54.97 | H11: =F11 -> ugovor o opskrbi krajnjeg kupca, izvod otvorenih stavki
A12: SVEUKUPNO | E12: 83516.84 | G12: 83516.84 | I12: =SUM(I11:I11) -> 0

Sheet I+II
A1: Stečajna masa iza CDD ORGANIC j.d.o.o. u stečaju
A2: Trgovački sud u Rijeci
A3: St-397/2025
A5: TABLICA PRIJAVLJENIH TRAŽBINA
A7: I. i II .VIŠI ISPLATNI RED
A8: R. br. | B8: Ime i prezime/tvrtka ili naziv vjerovnika | C8: OIB | D8: Aresa/sjedište vjerovnika | E8: Iznos priajvljene tražbine | F8: Pravna osnova prijavljene tražbine | G8: Iznos priznate tražbine | H8: Pravna osnova priznate tražbine | I8: Iznos osporene tražbine | J8: Razlog osporavanja tražbine | K8: Oznaka ovršne isprave ako se tražbine zasniva na ovršnoj ispravi
A9: 1. | B9: ='II VIŠI'!B9 -> ERSTE&STEIERMÄRKISCHE BANK d. d. | C9: ='II VIŠI'!C9 -> 23057039320 | D9: ='II VIŠI'!D9 -> Rijeka (Grad Rijeka) Jadranski trg 3a | E9: ='II VIŠI'!E9 -> 83249.09 | F9: ='II VIŠI'!F9 -> Ugovor o kreditu broj 5120800644 od 26.01.2023., sporazumo osiguranju tražbine zasnivanjem založnog prava na nekretnini od 26.01.2023. | G9: ='II VIŠI'!G9 -> 83249.09 | H9: ='II VIŠI'!H9 -> Ugovor o kreditu broj 5120800644 od 26.01.2023., sporazumo osiguranju tražbine zasnivanjem založnog prava na nekretnini od 26.01.2023. | I9: ='II VIŠI'!I9 -> 0 | ... K9: ='II VIŠI'!K9 -> Zadužnica od 26.01.2023.,sporazum o osiguranju novčane tražbine zasnivanjem založnog prava
A10: 2. | B10: ='II VIŠI'!B10 -> HEP ELEKTRA d.o.o. | C10: ='II VIŠI'!C10 -> 43965974818 | D10: ='II VIŠI'!D10 -> Ulica grada Vukovara 37, Zagreb | E10: ='II VIŠI'!E10 -> 212.78 | F10: ='II VIŠI'!F10 -> izvod iz poslovnih knjiga | G10: ='II VIŠI'!G10 -> 212.78 | H10: ='II VIŠI'!H10 -> izvod iz poslovnih knjiga | I10: ='II VIŠI'!I10 -> 0 | ... K10: ='II VIŠI'!K10 -> 0
A11: 3. | B11: ='II VIŠI'!B11 -> HEP-Opskrba d.o.o. | C11: ='II VIŠI'!C11 -> 63073332379 | D11: ='II VIŠI'!D11 -> Ulica grada Vukovara 37, Zagreb | E11: ='II VIŠI'!E11 -> 54.97 | F11: ='II VIŠI'!F11 -> ugovor o opskrbi krajnjeg kupca, izvod otvorenih stavki | G11: ='II VIŠI'!G11 -> 54.97 | H11: ='II VIŠI'!H11 -> ugovor o opskrbi krajnjeg kupca, izvod otvorenih stavki | I11: ='II VIŠI'!I11 -> 0 | ... K11: ='II VIŠI'!K11 -> 0
A12: SVEUKUPNO | E12: =SUM(E9:E11) -> 83516.84 | G12: =SUM(G9:G11) -> 83516.84 | I12: =SUM(I9:I11) -> 0

Sheet Razlučna prava
A1: Stečajna masa iza CBD ORGANIC j.d.o.o. u stečaju
A2: Trgovački sud u Rijeci
A3: St-397/2025
A5: TABLICA RAZLUČNIH PRAVA
A8: R. br | B8: Ime i prezime / tvrtka ili naziv razlučnog vjerovnika | C8: OIB razlučnog vjerovnika | D8: Adresa / sjedište razlučnog vjerovnika | E8: Javna knjiga u koju je razlučno pravo upisano | F8: Iznos tražbine osigurane razlučnim pravom | G8: Pravnu osnovu tražbine osigurane razlučnim pravom | H8: Dio imovine na koji se odnosi razlučno pravo
A10: 1. | B10: ERSTE&STEIERMÄRKISCHE BANK d. d. | C10: , | D10: Rijeka (Grad Rijeka) Jadranski trg 3a | E10: Općinski sug u Rijeci,ZK odjel Rijeka,k.o.324671 Marčelji,br.z.k. ul. 7168 | F10: 83249.09 | G10: ='II VIŠI'!K9 -> Zadužnica od 26.01.2023.,sporazum o osiguranju novčane tražbine zasnivanjem založnog prava | H10: nekretnina upisana u ZK odjel Rijeka,k.o.324671 Marčelji,Z.K.ul.7161,br.k.č.7
E11: UKUPNO: | F11: =SUM(F10:F10) -> 83249.09

Sheet Popis predmeta st mase
A1: Stečajna masa iza CBD Organic j.d.o.o. u stečaju
A2: Trgovački sud u Rijeci
A3: St-397/2025
A10: POPIS PREDMETA STEČAJNE MASE
A11: R. br | B11: OPIS | C11: Vrijednost imovine na dan EUR
A13: 1.
A14: 2.
B15: Ukupno: | C15: =SUM(C13:C14) -> 0

Sheet Pregled imovine i obveza
A1: Stečajna masa iza CBD Organic j.d.o.o. u stečaju
A2: Trgovački sud u Rijeci
A3: St-397/2025
B8: PREGLED IMOVINE I OBVEZA
B10: R.br. | C10: Opis imovine | D10: Vrijednost iskazana u Početnoj stečajnoj bilanci na dan
B11: 1.
B12: 2.
B13: A) | C13: UKUPNO IMOVINA
B14: 3.
B15: 4.
B16: B) | C16: U/KUPNO OBVEZE
